BEGIN:VCALENDAR
PRODID:-//kirchenweb.ch gmbh//veranstaltungsausgabe v2.0//DE
VERSION:2.0
METHOD:PUBLISH
BEGIN:VEVENT
DTSTART:20260827T153000Z
DTEND:20260827T170000Z
LOCATION:Kirchgemeindehaus Klosters\, Kirchgasse 9\, 7250 Klosters
TRANSP:OPAQUE
SEQUENCE:0
UID:13190-veranstaltung@klosters-reformiert.ch
DTSTAMP:20260422T092301Z
DESCRIPTION:Kontakt: Pfr. Heinz-Ulrich Richwinn \nMaria Thöni \n\nWeitere
  Infos: https://www.klosters-reformiert.ch/veranstaltung/13190
SUMMARY:Konfirmationskurs Wasser aus den Bergen
PRIORITY:5
X-MICROSOFT-CDO-IMPORTANCE:1
CLASS:PUBLIC
END:VEVENT
END:VCALENDAR
