BEGIN:VCALENDAR
PRODID:-//kirchenweb.ch gmbh//veranstaltungsausgabe v2.0//DE
VERSION:2.0
METHOD:PUBLISH
BEGIN:VEVENT
DTSTART:20260726T073000Z
DTEND:20260726T083000Z
LOCATION:Kirche Serneus\, Kirchenboden\, 7249 Serneus
TRANSP:OPAQUE
SEQUENCE:0
UID:12895-veranstaltung@klosters-reformiert.ch
DTSTAMP:20260319T173124Z
DESCRIPTION:Kontakt: andrea.fluetsch@klosters-reformiert.ch\n\nWeitere
  Infos: https://www.klosters-reformiert.ch/veranstaltung/12895
SUMMARY:Gottesdienst
PRIORITY:5
X-MICROSOFT-CDO-IMPORTANCE:1
CLASS:PUBLIC
END:VEVENT
END:VCALENDAR
