BEGIN:VCALENDAR
PRODID:-//kirchenweb.ch gmbh//veranstaltungsausgabe v2.0//DE
VERSION:2.0
METHOD:PUBLISH
BEGIN:VEVENT
DTSTART:20260510T120000Z
DTEND:20260510T143000Z
LOCATION:Kirchgemeindehaus Klosters\, \,
TRANSP:OPAQUE
SEQUENCE:0
UID:12870-veranstaltung@klosters-reformiert.ch
DTSTAMP:20260413T134638Z
DESCRIPTION:Kulturtag -Tracht macht schön\n\nNehmt die Trachten aus dem
  Schrank! Macht Euch schön!\nDas Diakonat lädt in Zusammenarbeit mit Pro
  Raetia zu einer geselligen Begegnung in der Bündner Tracht ein.\nFür
  die musikalische Unterhaltung sorgt das Gatschiefer Quartett Carina
  Marugg (Saxophon)\, Yanick Marugg (Posaune)\, Nik Tarnutzer (Handorgel)
  und Remo Tarnutzer (Handorgel).\n\nMaria Thöni (Diakonat und
  Präsidentin von Pro Raetia) moderiert die Begegnung.\n\nWer keine Tracht
  hat\, ist trotzdem willkommen.\n\nAnmeldung bis: 01. Mai 2026 an: Maria
  Thöni\, maria.thoeni@gr-ref.ch oder 078 410 67 33.\n\n\n\nKontakt:
  maria.thoeni@klosters-reformiert.ch\n\nWeitere Infos:
  https://www.klosters-reformiert.ch/veranstaltung/12870
SUMMARY:Kulturtag Diakonat mit Pro Raetia
PRIORITY:5
X-MICROSOFT-CDO-IMPORTANCE:1
CLASS:PUBLIC
END:VEVENT
END:VCALENDAR
