BEGIN:VCALENDAR
PRODID:-//kirchenweb.ch gmbh//veranstaltungsausgabe v2.0//DE
VERSION:2.0
METHOD:PUBLISH
BEGIN:VEVENT
DTSTART:20260820T153000Z
DTEND:20260820T170000Z
LOCATION:Kirchgemeindehaus Klosters\, Kirchgasse 9\, 7250 Klosters
TRANSP:OPAQUE
SEQUENCE:0
UID:12857-veranstaltung@klosters-reformiert.ch
DTSTAMP:20260305T155501Z
DESCRIPTION:Kontakt: Pfr. Heinz-Ulrich Richwinn \nMaria Thöni \n\nWeitere
  Infos: https://www.klosters-reformiert.ch/veranstaltung/12857
SUMMARY:KonfirmationskursNeueGruppe
PRIORITY:5
X-MICROSOFT-CDO-IMPORTANCE:1
CLASS:PUBLIC
END:VEVENT
END:VCALENDAR
