BEGIN:VCALENDAR
PRODID:-//kirchenweb.ch gmbh//veranstaltungsausgabe v2.0//DE
VERSION:2.0
METHOD:PUBLISH
BEGIN:VEVENT
DTSTART:20260726T160000Z
DTEND:20260726T170000Z
LOCATION:Kirche Klosters\, Kirchgasse 9\, 7250 Klosters
TRANSP:OPAQUE
SEQUENCE:0
UID:12650-veranstaltung@klosters-reformiert.ch
DTSTAMP:20260226T094307Z
DESCRIPTION:Kontakt: Pfrn. Silke Manske \n\nWeitere Infos:
  https://www.klosters-reformiert.ch/veranstaltung/12650
SUMMARY:Gottesdienst
PRIORITY:5
X-MICROSOFT-CDO-IMPORTANCE:1
CLASS:PUBLIC
END:VEVENT
END:VCALENDAR
