BEGIN:VCALENDAR
PRODID:-//kirchenweb.ch gmbh//veranstaltungsausgabe v2.0//DE
VERSION:2.0
METHOD:PUBLISH
BEGIN:VEVENT
DTSTART:20260712T073000Z
DTEND:20260712T083000Z
LOCATION:Kirche Klosters\, Kirchgasse 9\, 7250 Klosters
TRANSP:OPAQUE
SEQUENCE:0
UID:12649-veranstaltung@klosters-reformiert.ch
DTSTAMP:20260226T094215Z
DESCRIPTION:Kontakt: Pfrn. Silke Manske \n\nWeitere Infos:
  https://www.klosters-reformiert.ch/veranstaltung/12649
SUMMARY:kein Gottesdienst in Klosters (GD Lengland)
PRIORITY:5
X-MICROSOFT-CDO-IMPORTANCE:1
CLASS:PUBLIC
END:VEVENT
END:VCALENDAR
