BEGIN:VCALENDAR
PRODID:-//kirchenweb.ch gmbh//veranstaltungsausgabe v2.0//DE
VERSION:2.0
METHOD:PUBLISH
BEGIN:VEVENT
DTSTART:20260529T120000Z
DTEND:20260529T150000Z
LOCATION:Kirchgemeindehaus Serneus\, Serneuserstrasse 60\, 7249 Serneus
TRANSP:OPAQUE
SEQUENCE:0
UID:12381-veranstaltung@klosters-reformiert.ch
DTSTAMP:20260402T135430Z
DESCRIPTION:Tanja Egli (28) - Eventmoderatorin\, Texterin\,
  Prättigauer-Dialekt-Sprecherin\, Social Media Managerin\, Skilehrerin
  und Reisevogel. Sie ist aufgewachsen und tief verwurzelt im Prättigau.
  Sie pflegt ihren Dialekt\, den sie für Nichts auf der Welt\, wie sie
  selbst sagt\, ändern oder anpassen würde. \nTanja Egli erzählt von
  ihrem beruflichen Werdegang bei Radio Südostschweiz\, SRF 3 und SRF
  Sport. \nAnmeldungen bitte bis Mittwochmittag\, 27. Mai 2026 an: 
 \nPfarrerin Silke Manske: silke.manske@gr-ref.ch oder 078 639 57 56.\n\n
 \nKontakt: Pfrn. Silke Manske \n\nWeitere Infos:
  https://www.klosters-reformiert.ch/veranstaltung/12381
SUMMARY:Veranstaltung 65+ Prettygau Tanja Egli
PRIORITY:5
X-MICROSOFT-CDO-IMPORTANCE:1
CLASS:PUBLIC
END:VEVENT
END:VCALENDAR
