BEGIN:VCALENDAR
PRODID:-//kirchenweb.ch gmbh//veranstaltungsausgabe v2.0//DE
VERSION:2.0
METHOD:PUBLISH
BEGIN:VEVENT
DTSTART:20260703T101500Z
DTEND:20260703T123000Z
LOCATION:Kirchgemeindehaus Serneus\, Serneuserstrasse 60\, 7249 Serneus
TRANSP:OPAQUE
SEQUENCE:0
UID:12359-veranstaltung@klosters-reformiert.ch
DTSTAMP:20260212T123232Z
DESCRIPTION:Herzliche Einladung zum letzten Seniorenanlass vor der
  Sommerpause. Wie jedes Jahr bereiten unsere Serneuser Gastgeberinnen ein
  feines Barbecue für uns vor.\nWir freuen uns auf eine rege Teilnahme bei
  einem gemütlichen Hengert.\n\nAnmeldungen bitte bis Mittwochmittag\, 01.
  Juli 2026 an: \nPfarrerin Silke Manske: silke.manske@gr-ref.ch oder 078
  639 57 56.\n\n\nKontakt: Pfrn. Silke Manske \n\nWeitere Infos:
  https://www.klosters-reformiert.ch/veranstaltung/12359
SUMMARY:Veranstaltung 65+ Grillplausch Serneus
PRIORITY:5
X-MICROSOFT-CDO-IMPORTANCE:1
CLASS:PUBLIC
END:VEVENT
END:VCALENDAR
