BEGIN:VCALENDAR
PRODID:-//kirchenweb.ch gmbh//veranstaltungsausgabe v2.0//DE
VERSION:2.0
METHOD:PUBLISH
BEGIN:VEVENT
DTSTART:20260609T180000Z
DTEND:20260609T200000Z
LOCATION:Kirchgemeindehaus Klosters\, \,
TRANSP:OPAQUE
SEQUENCE:0
UID:12321-veranstaltung@klosters-reformiert.ch
DTSTAMP:20260110T142903Z
DESCRIPTION:Kontakt: Joachim Niewiadomski\n\nWeitere Infos:
  https://www.klosters-reformiert.ch/veranstaltung/12321
SUMMARY:Kirchgemeindeversammlung
PRIORITY:5
X-MICROSOFT-CDO-IMPORTANCE:1
CLASS:PUBLIC
END:VEVENT
END:VCALENDAR
