BEGIN:VCALENDAR
PRODID:-//kirchenweb.ch gmbh//veranstaltungsausgabe v2.0//DE
VERSION:2.0
METHOD:PUBLISH
BEGIN:VEVENT
DTSTART;VALUE=DATE:20260430
DTEND;VALUE=DATE:20260501
LOCATION:Kirche Klosters\, Kirchgasse 9\, 7250 Klosters
TRANSP:OPAQUE
SEQUENCE:0
UID:12201-veranstaltung@klosters-reformiert.ch
DTSTAMP:20251204T151207Z
DESCRIPTION:Kontakt: Mesmerin Marianne Dicht\, 079 431 33 53\n\nWeitere
  Infos: https://www.klosters-reformiert.ch/veranstaltung/12201
SUMMARY:Amtswoche Mesmerin Marianne Dicht
PRIORITY:5
X-MICROSOFT-CDO-IMPORTANCE:1
CLASS:PUBLIC
END:VEVENT
END:VCALENDAR
