BEGIN:VCALENDAR
PRODID:-//kirchenweb.ch gmbh//veranstaltungsausgabe v2.0//DE
VERSION:2.0
METHOD:PUBLISH
BEGIN:VEVENT
DTSTART:20260906T090000Z
DTEND:20260906T100000Z
LOCATION:Kirche Serneus\, Kirchenboden\, 7249 Serneus
TRANSP:OPAQUE
SEQUENCE:0
UID:12057-veranstaltung@klosters-reformiert.ch
DTSTAMP:20251127T095310Z
DESCRIPTION:Kontakt: Pfr. Heinz-Ulrich Richwinn \n\nWeitere Infos:
  https://www.klosters-reformiert.ch/veranstaltung/12057
SUMMARY:Schwellengottesdienst
PRIORITY:5
X-MICROSOFT-CDO-IMPORTANCE:1
CLASS:PUBLIC
END:VEVENT
END:VCALENDAR
