BEGIN:VCALENDAR
PRODID:-//kirchenweb.ch gmbh//veranstaltungsausgabe v2.0//DE
VERSION:2.0
METHOD:PUBLISH
BEGIN:VEVENT
DTSTART:20260607T073000Z
DTEND:20260607T083000Z
LOCATION:Kirche Klosters\, Kirchgasse 9\, 7250 Klosters
TRANSP:OPAQUE
SEQUENCE:0
UID:12049-veranstaltung@klosters-reformiert.ch
DTSTAMP:20251127T090658Z
DESCRIPTION:Kontakt: andrea.fluetsch@klosters-reformiert.ch\n\nWeitere
  Infos: https://www.klosters-reformiert.ch/veranstaltung/12049
SUMMARY:Kein Gottesdienst in Klosters
PRIORITY:5
X-MICROSOFT-CDO-IMPORTANCE:1
CLASS:PUBLIC
END:VEVENT
END:VCALENDAR
