BEGIN:VCALENDAR
PRODID:-//kirchenweb.ch gmbh//veranstaltungsausgabe v2.0//DE
VERSION:2.0
METHOD:PUBLISH
BEGIN:VEVENT
DTSTART:20260524T073000Z
DTEND:20260524T083000Z
LOCATION:Kirche Klosters\, Kirchgasse 9\, 7250 Klosters
TRANSP:OPAQUE
SEQUENCE:0
UID:12045-veranstaltung@klosters-reformiert.ch
DTSTAMP:20260402T135415Z
DESCRIPTION:Kontakt: Pfr. Heinz-Ulrich Richwinn \n\nWeitere Infos:
  https://www.klosters-reformiert.ch/veranstaltung/12045
SUMMARY:Gottesdienst zu Pfingsten mit Abendmahl und Taufe
PRIORITY:5
X-MICROSOFT-CDO-IMPORTANCE:1
CLASS:PUBLIC
END:VEVENT
END:VCALENDAR
