BEGIN:VCALENDAR
PRODID:-//kirchenweb.ch gmbh//veranstaltungsausgabe v2.0//DE
VERSION:2.0
METHOD:PUBLISH
BEGIN:VEVENT
DTSTART:20260517T090000Z
DTEND:20260517T100000Z
LOCATION:Kirche Serneus\, Kirchenboden\, 7249 Serneus
TRANSP:OPAQUE
SEQUENCE:0
UID:12044-veranstaltung@klosters-reformiert.ch
DTSTAMP:20260402T135347Z
DESCRIPTION:Kontakt: andrea.fluetsch@klosters-reformiert.ch\n\nWeitere
  Infos: https://www.klosters-reformiert.ch/veranstaltung/12044
SUMMARY:Kein Gottesdienst in Serneus
PRIORITY:5
X-MICROSOFT-CDO-IMPORTANCE:1
CLASS:PUBLIC
END:VEVENT
END:VCALENDAR
