BEGIN:VCALENDAR
PRODID:-//kirchenweb.ch gmbh//veranstaltungsausgabe v2.0//DE
VERSION:2.0
METHOD:PUBLISH
BEGIN:VEVENT
DTSTART:20260514T073000Z
DTEND:20260514T083000Z
LOCATION:Kirche Serneus\, Kirchenboden\, 7249 Serneus
TRANSP:OPAQUE
SEQUENCE:0
UID:12042-veranstaltung@klosters-reformiert.ch
DTSTAMP:20260419T164329Z
DESCRIPTION:Kontakt: Pfrn. Silke Manske \n\nWeitere Infos:
  https://www.klosters-reformiert.ch/veranstaltung/12042
SUMMARY:Familiengottesdienst
PRIORITY:5
X-MICROSOFT-CDO-IMPORTANCE:1
CLASS:PUBLIC
END:VEVENT
END:VCALENDAR
