BEGIN:VCALENDAR
PRODID:-//kirchenweb.ch gmbh//veranstaltungsausgabe v2.0//DE
VERSION:2.0
METHOD:PUBLISH
BEGIN:VEVENT
DTSTART:20260510T073000Z
DTEND:20260510T083000Z
LOCATION:Kirche Klosters\, Kirchgasse 9\, 7250 Klosters
TRANSP:OPAQUE
SEQUENCE:0
UID:12039-veranstaltung@klosters-reformiert.ch
DTSTAMP:20260420T150133Z
DESCRIPTION:Kontakt: Pfrn. Silke Manske \n\nWeitere Infos:
  https://www.klosters-reformiert.ch/veranstaltung/12039
SUMMARY:Gottesdienst mit Taufe und Kirchenkaffee
PRIORITY:5
X-MICROSOFT-CDO-IMPORTANCE:1
CLASS:PUBLIC
END:VEVENT
END:VCALENDAR
