BEGIN:VCALENDAR
PRODID:-//kirchenweb.ch gmbh//veranstaltungsausgabe v2.0//DE
VERSION:2.0
METHOD:PUBLISH
BEGIN:VEVENT
DTSTART:20260426T160000Z
DTEND:20260426T170000Z
LOCATION:Kirche Klosters\, Kirchgasse 9\, 7250 Klosters
TRANSP:OPAQUE
SEQUENCE:0
UID:12007-veranstaltung@klosters-reformiert.ch
DTSTAMP:20260307T053926Z
DESCRIPTION:Kontakt: Pfr. Roland Brendle \n\nWeitere Infos:
  https://www.klosters-reformiert.ch/veranstaltung/12007
SUMMARY:Gottesdienst
PRIORITY:5
X-MICROSOFT-CDO-IMPORTANCE:1
CLASS:PUBLIC
END:VEVENT
END:VCALENDAR
