BEGIN:VCALENDAR
PRODID:-//kirchenweb.ch gmbh//veranstaltungsausgabe v2.0//DE
VERSION:2.0
METHOD:PUBLISH
BEGIN:VEVENT
DTSTART:20260611T095000Z
DTEND:20260611T112000Z
LOCATION:Kirchgemeindehaus Serneus\, Serneuserstrasse 60\, 7249 Serneus
TRANSP:OPAQUE
SEQUENCE:0
UID:11745-veranstaltung@klosters-reformiert.ch
DTSTAMP:20250922T143728Z
DESCRIPTION:Kontakt: Maria Thöni \n\nWeitere Infos:
  https://www.klosters-reformiert.ch/veranstaltung/11745
SUMMARY:Mittagsplausch für Schüler aus Serneus 1.-6. Klasse
PRIORITY:5
X-MICROSOFT-CDO-IMPORTANCE:1
CLASS:PUBLIC
END:VEVENT
END:VCALENDAR
