BEGIN:VCALENDAR
PRODID:-//kirchenweb.ch gmbh//veranstaltungsausgabe v2.0//DE
VERSION:2.0
METHOD:PUBLISH
BEGIN:VEVENT
DTSTART:20260507T153000Z
DTEND:20260507T170000Z
LOCATION:Kirchgemeindehaus Klosters\, Kirchgasse 9\, 7250 Klosters
TRANSP:OPAQUE
SEQUENCE:0
UID:11739-veranstaltung@klosters-reformiert.ch
DTSTAMP:20260402T135244Z
DESCRIPTION:Kontakt: Pfr. Heinz-Ulrich Richwinn\n\nWeitere Infos:
  https://www.klosters-reformiert.ch/veranstaltung/11739
SUMMARY:KonfirmationskursLabyrinth
PRIORITY:5
X-MICROSOFT-CDO-IMPORTANCE:1
CLASS:PUBLIC
END:VEVENT
END:VCALENDAR
