BEGIN:VCALENDAR
PRODID:-//kirchenweb.ch gmbh//veranstaltungsausgabe v2.0//DE
VERSION:2.0
METHOD:PUBLISH
BEGIN:VEVENT
DTSTART:20260527T120000Z
DTEND:20260527T140000Z
LOCATION:Katholische Kirche\, \, 7250 Klosters
TRANSP:OPAQUE
SEQUENCE:0
UID:11372-veranstaltung@klosters-reformiert.ch
DTSTAMP:20260402T135424Z
DESCRIPTION:Für unsere Kleinsten gibt es ein ökumenisches Angebot der
  katholischen und evangelischen Kirchgemeinde in Klosters und Serneus.\n
 \nIn Klosters laden wir die Kindergartenkinder und die Kinder der 1. und
  2. Klasse zum «Fiira mit da Chliina» und dem «Chilchemüschi-Hengert»
  ein. Um 14:00 Uhr treffen wir uns abwechslungsweise im Pfarrsaal der
  katholischen Kirche oder im evangelischen Kirchgemeindehaus. Wir
  basteln\, spielen und singen. Nach einem feinen Zvieri feiern wir um
  15:30 Uhr in der Kirche einen kurzen\, kindgerechten Gottesdienst. Zu
  diesem sind dann auch die kleineren Geschwister mit einer Bezugsperson
  herzlich eingeladen.\n\nIn Serneus laden wir ebenfalls die
  Kindergartenkinder und die Kinder der 1. und 2. Klasse zum «Fiira mit da
  Chliina» und dem «Chilchemüschi-Mittagsplausch» ein. Wir holen die
  angemeldeten Kinder um 11:30 Uhr im Kindergarten und um 11:40 Uhr in der
  Primarschule ab und geniessen gemeinsam ein feines Mittagessen.
  Anschliessend basteln oder spielen wir\, bevor dann um 12:45 Uhr ein
  kurzer\, kindgerechter Gottesdienst in der Kirche Serneus stattfindet. Zu
  diesem sind dann auch die kleineren Geschwister mit einer Bezugsperson
  herzlich eingeladen.\n\nDie Teilnahme an den Anlässen ist kostenlos und
  steht allen Kindern offen.\n\nWir freuen uns aus auf viele
  «Chilchemüschi»!\n\n\nKontakt: Maria Thöni\, 078 410 67 33\n\nWeitere
  Infos: https://www.klosters-reformiert.ch/veranstaltung/11372
SUMMARY:Fiira mit da Chliina
PRIORITY:5
X-MICROSOFT-CDO-IMPORTANCE:1
CLASS:PUBLIC
END:VEVENT
END:VCALENDAR
