BEGIN:VCALENDAR
PRODID:-//kirchenweb.ch gmbh//veranstaltungsausgabe v2.0//DE
VERSION:2.0
METHOD:PUBLISH
BEGIN:VEVENT
DTSTART:20260506T101500Z
DTEND:20260506T123000Z
LOCATION:Kirchgemeindehaus Klosters\, Kirchgasse 9\, 7250 Klosters
TRANSP:OPAQUE
SEQUENCE:0
UID:11332-veranstaltung@klosters-reformiert.ch
DTSTAMP:20260413T133813Z
DESCRIPTION:Wegen dem Urlaub von Pfarrerin Silke Manske bitten wir Sie
  Ihre Anmeldung an: Andrea Flütsch
  andrea.fluetsch@klosters-reformiert.ch/078 752 66 93 (abends) oder an:
 \nAlexandra Simonet Flepp\, Tel. 079 467 84 74 zu schicken.\n
 \nAnmeldeschluss: Montagmittag\, 04. Mai 2026\n\nKontakt: Pfrn. Silke
  Manske\, 078 639 57 56 \n\nWeitere Infos:
  https://www.klosters-reformiert.ch/veranstaltung/11332
SUMMARY:Ökumenischer Mittagstisch
PRIORITY:5
X-MICROSOFT-CDO-IMPORTANCE:1
CLASS:PUBLIC
END:VEVENT
END:VCALENDAR
