BEGIN:VCALENDAR
PRODID:-//kirchenweb.ch gmbh//veranstaltungsausgabe v2.0//DE
VERSION:2.0
METHOD:PUBLISH
BEGIN:VEVENT
DTSTART:20260521T095000Z
DTEND:20260521T112000Z
LOCATION:Kirchgemeindehaus Serneus\, Serneuserstrasse 60\, 7249 Serneus
TRANSP:OPAQUE
SEQUENCE:0
UID:11327-veranstaltung@klosters-reformiert.ch
DTSTAMP:20260402T135402Z
DESCRIPTION:Kontakt: Maria Thöni\, 078 410 67 33\n\nWeitere Infos:
  https://www.klosters-reformiert.ch/veranstaltung/11327
SUMMARY:Mittagsplausch für Schüler aus Serneus 1.-6. Klasse
PRIORITY:5
X-MICROSOFT-CDO-IMPORTANCE:1
CLASS:PUBLIC
END:VEVENT
END:VCALENDAR
