BEGIN:VCALENDAR
PRODID:-//kirchenweb.ch gmbh//veranstaltungsausgabe v2.0//DE
VERSION:2.0
METHOD:PUBLISH
BEGIN:VEVENT
DTSTART:20260609T100000Z
DTEND:20260609T113000Z
LOCATION:Katholischer Pfarreisaal\, Kirchgasse 9\, 7250 Klosters
TRANSP:OPAQUE
SEQUENCE:0
UID:11301-veranstaltung@klosters-reformiert.ch
DTSTAMP:20250923T114731Z
DESCRIPTION:Kontakt: Maria Thöni\, 078 410 67 33\n\nWeitere Infos:
  https://www.klosters-reformiert.ch/veranstaltung/11301
SUMMARY:Mittagsplausch für Primarschüler aus Klosters
PRIORITY:5
X-MICROSOFT-CDO-IMPORTANCE:1
CLASS:PUBLIC
END:VEVENT
END:VCALENDAR
